BEGIN:VCALENDAR
VERSION:2.0
PRODID:-//pretix//My_Pretix_Instance//
BEGIN:VEVENT
UID:pretix-skidlg-genusskifahrt-wild2324-0@tickets.skidlg.de
DTSTART;VALUE=DATE:20240221
DTEND;VALUE=DATE:20240222
DESCRIPTION:Tickets: https://tickets.skidlg.de/genusskifahrt-wild2324/\nVer
 anstalter: Skiclub Dillingen
DTSTAMP:20260421T090021Z
SUMMARY:Genusskifahrt Wilder Kaiser
END:VEVENT
END:VCALENDAR
